BEGIN:VCALENDAR
PRODID:-//Det Danske Spejderkorps//NONSGML Gruppeweb//EN
VERSION:2.0
CALSCALE:GREGORIAN
X-PUBLISHED-TTL:PT1H
X-WR-CALNAME:Juniorer i HadstenSpejderne
METHOD:PUBLISH
BEGIN:VEVENT
UID:gruppeweb.dk:7501:event:310
DTSTAMP:20260421T135500Z
LAST-MODIFIED:20250622T173514Z
SUMMARY:Lilleåmarked 2025- Opsætning af broer
DESCRIPTION:Vi skal\nbygge 2 broer over Lilleåen.\n\n\nDenne\naktivitet er
  primært en senioropgave\, men forældre er også velkomne.\n\n\nHer\nska
 l vi bruge 8 - 10 personer.\n\n\n\n \n\nVi bygger op mandag den 18. augus
 t kl. 18.00 - ca. kl. 20.30.\n\n\n \n\n\nVi mødes ved festteltet i Lille
 åparken.\nDer vil være en ansvarlig fra spejderne til stede\, som koordi
 nerer opgaven.\n
URL:https://www.hadstenspejderne.dk/begivenhed/lilleaamarked-2025-opsaetnin
 g-af-broer
DTSTART:20250818T160000Z
DTEND:20250818T183000Z
LOCATION:HadstenSpejderne\, Ellemosevej 17A\, 8370 Hadsten
END:VEVENT
BEGIN:VEVENT
UID:gruppeweb.dk:7501:event:307
DTSTAMP:20260421T135500Z
LAST-MODIFIED:20250819T192950Z
SUMMARY:Lilleåmarked 2025 - Opsætning Borde/bænke og dansegulv i festtel
 t
DESCRIPTION:Vi skal stille borde og bænke op i festteltet og senere tage d
 et ned igen.\n\n\nHer\nskal vi være mange\, for så er det hurtigt klaret
 .\n\n\nHer\nskal vi gerne være 25 – 30 personer.\n\n\nAlle\nkan være m
 ed\, og to mikroer kan sagtens hjælpe hinanden med at flytte en  \nbænk.
 \n\n\nVi\nhåber også på at se rigtig mange forældre.\n\n\n\n \n\nVi s
 tiller op onsdag den 20. august kl. 18.30 - ca. kl. 20.00.\n\n\n \n\nOm o
 nsdagen er der noget at spise og drikke efter opgaven.\n\n \n\nVi\nmødes
  ved festteltet i Lilleåparken.\n\n\nDer vil\nvære en ansvarlig fra spej
 derne til stede\, som koordinerer opgaven.\n\n
URL:https://www.hadstenspejderne.dk/begivenhed/lilleaamarked-2025-opsaetnin
 g-bordebaenke-og-dansegulv-i-festtelt
DTSTART:20250820T163000Z
DTEND:20250820T180000Z
LOCATION:HadstenSpejderne\, Ellemosevej 17A\, 8370 Hadsten
END:VEVENT
BEGIN:VEVENT
UID:gruppeweb.dk:7501:event:312
DTSTAMP:20260421T135500Z
LAST-MODIFIED:20250819T192948Z
SUMMARY:Lilleåmarked 2025 - Opsætning af instrumenter
DESCRIPTION:Vi skal hjælpe musiker/DJ med opstilling af udstyr.\n\n\nHer s
 kal vi bruge 1 – 2 personer.\n\n\nMan\nskal være over 18 år\, og man s
 kal være ædru.\n\n\n\n \n\nVi stiller op lørdag den 23. august kl. 14.
 00 - ca. kl. 15.30\n\n\n \n\n\nVi mødes ved festteltet i Lilleåparken.\
 n
URL:https://www.hadstenspejderne.dk/begivenhed/lilleaamarked-2025-opsaetnin
 g-af-instrumenter
DTSTART:20250823T120000Z
DTEND:20250823T133000Z
LOCATION:HadstenSpejderne\, Ellemosevej 17A\, 8370 Hadsten
END:VEVENT
BEGIN:VEVENT
UID:gruppeweb.dk:7501:event:309
DTSTAMP:20260421T135500Z
LAST-MODIFIED:20250819T192945Z
SUMMARY:Lilleåmarked 2025 - Nedtagning instrumenter
DESCRIPTION:Vi skal hjælpe musiker/DJ med nedpakning af udstyr.\n\n\nHer s
 kal vi bruge 1 – 2 personer.\n\n\nMan\nskal være over 18 år\, og man s
 kal være ædru.\n\n\n\n \n\nVi tager ned søndag den 24. august kl. 01.3
 0 - ca. kl. 02.00.\n\n\nVi mødes ved festteltet i Lilleåparken.\n
URL:https://www.hadstenspejderne.dk/begivenhed/lilleaamarked-2025-nedtagnin
 g-instrumenter
DTSTART:20250823T233000Z
DTEND:20250824T000000Z
LOCATION:HadstenSpejderne\, Ellemosevej 17A\, 8370 Hadsten
END:VEVENT
BEGIN:VEVENT
UID:gruppeweb.dk:7501:event:313
DTSTAMP:20260421T135500Z
LAST-MODIFIED:20250824T055037Z
SUMMARY:Lilleåmarked 2025 - Nedtagning Borde/bænke\, dansegulv i festtelt
DESCRIPTION:Nedtagning af borde og bænke op i festteltet.\n\nHer\nskal vi 
 være mange\, for så er det hurtigt klaret.\n\n\nHer\nskal vi gerne være
  25 – 30 personer.\n\n\nAlle\nkan være med\, og to mikroer kan sagtens 
 hjælpe hinanden med at flytte en  \nbænk.\n\n\nVi\nhåber også på at s
 e rigtig mange forældre.\n\n\n\n \n\nVi tager ned søndag den 24. august
  kl. 16.30 - ca. kl. 18.00.\n\n Om søndagen er der noget at drikke efter
  opgaven. \n\nVi\nmødes ved festteltet i Lilleåparken.\n\n\nDer vil\nv
 ære en ansvarlig fra spejderne til stede\, som koordinerer opgaven.\n\n
URL:https://www.hadstenspejderne.dk/begivenhed/lilleaamarked-2025-nedtagnin
 g-bordebaenke-dansegulv-i-festtelt
DTSTART:20250824T143000Z
DTEND:20250824T160000Z
LOCATION:HadstenSpejderne\, Ellemosevej 17A\, 8370 Hadsten
END:VEVENT
BEGIN:VEVENT
UID:gruppeweb.dk:7501:event:308
DTSTAMP:20260421T135500Z
LAST-MODIFIED:20250622T185550Z
SUMMARY:Lilleåmarked 2025 - Nedtagning af broer
DESCRIPTION:Vi skal\nbygge 2 broer over Lilleåen.\n\n\nDenne\naktivitet er
  primært en senioropgave\, men forældre er også velkomne.\n\n\nHer\nska
 l vi bruge 8 - 10 personer.\n\n\n\n \n\nVi tager ned mandag den 25. augus
 t kl. 18.00 - ca. kl. 20.00\n\n\nVi mødes ved festteltet i Lilleåparken.
 \nDer vil være en ansvarlig fra spejderne til stede\, som koordinerer opg
 aven.\n
URL:https://www.hadstenspejderne.dk/begivenhed/lilleaamarked-2025-nedtagnin
 g-af-broer
DTSTART:20250825T160000Z
DTEND:20250825T180000Z
LOCATION:HadstenSpejderne\, Ellemosevej 17A\, 8370 Hadsten
END:VEVENT
BEGIN:VEVENT
UID:gruppeweb.dk:7501:event:311
DTSTAMP:20260421T135500Z
LAST-MODIFIED:20250824T055041Z
SUMMARY:Lilleåmarked 2025 - Oprydning af det sidste skrald på pladsen
DESCRIPTION:Vi skal\ngå pladsen igennem for at samle det sidste skrald op.
 \n\n\nHer\nskal vi gerne være 15 – 20 personer.\n\n\nEn\noplagt opgave 
 for spejdere\, men forældre er også velkomne.\n\n\n\n \n\nVi rydder op 
 mandag den 25. august kl. 18.00 - ca. kl. 19.30.\n\n\nVi mødes ved festte
 ltet i Lilleåparken.\nDer vil være en ansvarlig fra spejderne til stede\
 , som koordinerer opgaven.\n
URL:https://www.hadstenspejderne.dk/begivenhed/lilleaamarked-2025-oprydning
 -af-det-sidste-skrald-paa-pladsen
DTSTART:20250825T160000Z
DTEND:20250825T173000Z
LOCATION:HadstenSpejderne\, Ellemosevej 17A\, 8370 Hadsten
END:VEVENT
BEGIN:VEVENT
UID:gruppeweb.dk:7501:event:314
DTSTAMP:20260421T135500Z
LAST-MODIFIED:20250622T190351Z
SUMMARY:Lilleåmarked 2025 - Nedtagning af broer
DESCRIPTION:Vi skal\nbygge 2 broer over Lilleåen.\n\n\nDenne\naktivitet er
  primært en senioropgave\, men forældre er også velkomne.\n\n\nHer\nska
 l vi bruge 8 - 10 personer.\n\n\n\n \n\nVi tager ned mandag den 25. augus
 t kl. 18.00 - ca. kl. 20.00\n\n\nVi mødes ved festteltet i Lilleåparken.
 \nDer vil være en ansvarlig fra spejderne til stede\, som koordinerer opg
 aven.\n
URL:https://www.hadstenspejderne.dk/begivenhed/lilleaamarked-2025-nedtagnin
 g-af-broer-0
DTSTART:20250825T160000Z
DTEND:20250825T180000Z
LOCATION:HadstenSpejderne\, Ellemosevej 17A\, 8370 Hadsten
END:VEVENT
BEGIN:VEVENT
UID:gruppeweb.dk:7501:event:330
DTSTAMP:20260421T135500Z
LAST-MODIFIED:20251028T132655Z
SUMMARY:Junior juletur
DESCRIPTION:Junior juletur - se separat indbydelse\n\n
URL:https://www.hadstenspejderne.dk/begivenhed/junior-juletur-0
DTSTART:20251115T080000Z
DTEND:20251116T090000Z
LOCATION:HadstenSpejderne\, Ellemosevej 17A\, 8370 Hadsten
END:VEVENT
BEGIN:VEVENT
UID:gruppeweb.dk:7501:event:335
DTSTAMP:20260421T135500Z
LAST-MODIFIED:20260111T135846Z
SUMMARY:Junior Vinterbivi
DESCRIPTION:Junior Vinterbivi overnatning\n\nSe egen invitation\n\n
URL:https://www.hadstenspejderne.dk/begivenhed/junior-vinterbivi-1
DTSTART:20260130T180000Z
DTEND:20260131T080000Z
LOCATION:HadstenSpejderne\, Ellemosevej 17A\, 8370 Hadsten
END:VEVENT
BEGIN:VEVENT
UID:gruppeweb.dk:7501:event:351
DTSTAMP:20260421T135500Z
LAST-MODIFIED:20260331T192036Z
SUMMARY:Juniortur til spejdermuseum
DESCRIPTION:Juniorene skal et smut til Aarhus og på spejdermuseum\, Det ha
 r tidligere  \nværet rigtig spændende at opleve.\n\nVi mødes ved hytten
  kl\,17.30 og så regner vi med at være retur 20.30\n\nVi får brug for f
 orældre at køre os (og I må også meget gerne komme med  \npå museum).
 \n\n
URL:https://www.hadstenspejderne.dk/begivenhed/juniortur-til-spejdermuseum-
 0
DTSTART:20260414T153000Z
DTEND:20260414T183000Z
LOCATION:HadstenSpejderne\, Ellemosevej 17A\, 8370 Hadsten
END:VEVENT
BEGIN:VEVENT
UID:gruppeweb.dk:7501:event:352
DTSTAMP:20260421T135500Z
LAST-MODIFIED:20260419T073123Z
SUMMARY:Divisionsturnering
DESCRIPTION:\n
URL:https://www.hadstenspejderne.dk/begivenhed/divisionsturnering
DTSTART:20260501T141500Z
DTEND:20260503T083000Z
LOCATION:HadstenSpejderne\, Ellemosevej 17A\, 8370 Hadsten
END:VEVENT
END:VCALENDAR
